BEGIN:VCALENDAR
VERSION:2.0
PRODID:-//Paducah Sports Park - ECPv6.15.20//NONSGML v1.0//EN
CALSCALE:GREGORIAN
METHOD:PUBLISH
X-ORIGINAL-URL:https://paducahsportspark.com
X-WR-CALDESC:Events for Paducah Sports Park
REFRESH-INTERVAL;VALUE=DURATION:PT1H
X-Robots-Tag:noindex
X-PUBLISHED-TTL:PT1H
BEGIN:VTIMEZONE
TZID:America/New_York
BEGIN:DAYLIGHT
TZOFFSETFROM:-0500
TZOFFSETTO:-0400
TZNAME:EDT
DTSTART:20250309T070000
END:DAYLIGHT
BEGIN:STANDARD
TZOFFSETFROM:-0400
TZOFFSETTO:-0500
TZNAME:EST
DTSTART:20251102T060000
END:STANDARD
BEGIN:DAYLIGHT
TZOFFSETFROM:-0500
TZOFFSETTO:-0400
TZNAME:EDT
DTSTART:20260308T070000
END:DAYLIGHT
BEGIN:STANDARD
TZOFFSETFROM:-0400
TZOFFSETTO:-0500
TZNAME:EST
DTSTART:20261101T060000
END:STANDARD
BEGIN:DAYLIGHT
TZOFFSETFROM:-0500
TZOFFSETTO:-0400
TZNAME:EDT
DTSTART:20270314T070000
END:DAYLIGHT
BEGIN:STANDARD
TZOFFSETFROM:-0400
TZOFFSETTO:-0500
TZNAME:EST
DTSTART:20271107T060000
END:STANDARD
END:VTIMEZONE
BEGIN:VEVENT
DTSTART;VALUE=DATE:20260624
DTEND;VALUE=DATE:20260629
DTSTAMP:20260419T191132
CREATED:20260128T111212Z
LAST-MODIFIED:20260128T162328Z
UID:10000006-1782259200-1782691199@paducahsportspark.com
SUMMARY:USSSA Baseball - Bluegrass Summer Nationals
DESCRIPTION:Bluegrass Summer Nationals \nhttps://kybaseball.usssa.com/event/bluegrass-summer-nationals-5-gg/
URL:https://paducahsportspark.com/event_detail/usssa-baseball-bluegrass-summer-nationals/
ATTACH;FMTTYPE=image/jpeg:https://paducahsportspark.com/wp-content/uploads/2026/01/Kentucky-Home-Image-1240x575-1-300x91-1.jpg
END:VEVENT
END:VCALENDAR